BEGIN:VCALENDAR
VERSION:2.0
PRODID:-//Palm Beach Junior Tennis Circuit - ECPv6.2.2.1//NONSGML v1.0//EN
CALSCALE:GREGORIAN
METHOD:PUBLISH
X-WR-CALNAME:Palm Beach Junior Tennis Circuit
X-ORIGINAL-URL:https://pbtenniscircuit.com
X-WR-CALDESC:Events for Palm Beach Junior Tennis Circuit
REFRESH-INTERVAL;VALUE=DURATION:PT1H
X-Robots-Tag:noindex
X-PUBLISHED-TTL:PT1H
BEGIN:VTIMEZONE
TZID:America/New_York
BEGIN:DAYLIGHT
TZOFFSETFROM:-0500
TZOFFSETTO:-0400
TZNAME:EDT
DTSTART:20230312T070000
END:DAYLIGHT
BEGIN:STANDARD
TZOFFSETFROM:-0400
TZOFFSETTO:-0500
TZNAME:EST
DTSTART:20231105T060000
END:STANDARD
END:VTIMEZONE
BEGIN:VEVENT
DTSTART;TZID=America/New_York:20230622T160000
DTEND;TZID=America/New_York:20230622T190000
DTSTAMP:20260423T145450
CREATED:20230302T210022Z
LAST-MODIFIED:20230617T233717Z
UID:22632-1687449600-1687460400@pbtenniscircuit.com
SUMMARY:JUNE 22nd - NRG CUP - Palm Beach Polo Club
DESCRIPTION:When: – Thursday June 22nd\nTime: 4:00 pm – 7.00 pm\nNRG CUP\n\n \nQualifications : \nUSTA rated for 14U Yellow ball/UTR Rated < 4 :  First 16 players that register  ( If you are not one of the first 16 entries you will be placed on the Alternate List ) \nUSTA rated for 12U Green Dot:  First 8 players that register  ( If you are not one of the first 8 entries you will be placed on the Alternate List ) \nUSTA rated for 10U Orange Dot: First 8 players that register  ( If you are not one of the first 8 entries you will be placed on the Alternate List ) \nCharity Event \nThe Registration Fee to play in this event is $30 per player.  The registration fee will go towards the court fee for the polo club\, and to Serving up Hope.  A Nonprofit organization that brings Tennis to children in need throughout the world. \nhttps://www.servinguphope.org/ \nFormat:\nMain Draw – Lottery Draw \nMatch format: 1 set to 6 – Ad Scoring ( At 6-6 : 7 point tiebreaker )\nConsolation: Compass Draw \n***Players will play for prizes in each division \nIMPORTANT \nThis is a practice tournament to get ready for real tournaments. \nCoaching is allowed from coaches and parents on the changeovers ONLY. This is the time to work on your game to be ready for the real tournaments. \nParents and coaches cannot get involved in the matches outside of the coaching on the changeovers. If there is a dispute\, the player has the right to ask for an umpire during their match. Disputes between parents are not tolerated and could potentially lead to banning your player from playing in future events. \nAgain we stress this is a practice environment to prepare for real tournaments. \nATTENTION PARENTS AND PLAYERS;\n1- No parents or players are allowed in the Polo Club Gym or Bar Area. This is reserved for Polo Club Members Only \n2- Maximum Three Tennis Balls allowed per court \n\n\n\n\n30 Tournament Registration\n\n\n\n\n\n\n\n\n    Kid Name\n        \n    \n    \n	\n		Kid Name	\n\n	\n					\n				\n					First				\n\n										\n						First			\n					\n				\n					Last				\n\n										\n						Last			\n			\n\n\n    \n    \n\n\n    Parent Name\n        *\n    \n    \n	\n		Parent Name	\n\n	\n					\n				\n					First				\n\n										\n						First			\n					\n				\n					Last				\n\n										\n						Last			\n			\n\n\n    \n    \n\n\n    Parent Phone\n        *\n    \n    \n    \n    \n\n\n    Email\n        *\n    \n    \n    \n    \n\n\n    Category\n        *\n    \n    		\n		 14 U Yellow Ball (UTR <3.0)12 U (USTA Green Dot Ball)10 U (USTA Orange Dot Ball)	\n	\n    \n    \n\n\n    How did you hear about this event?\n        *\n    \n    				 Word of mouth\n				 Participated in the past\n				 Advertisement\n				 Social Media\n				 OtherOther\n\n    \n    \n\n\n    Waiver\n        *\n    \n    		 By checking you are acepting the waiver for this tournament\n\n    \n    \n\nPlease Read the waiver before sign the application\n\n    Signature\n        *\n    \n    \n	\n\n		\n				\n				\n		\n\n		\n			\n		\n\n		\n			\n		\n\n		\n		Clear\n\n		\n	\n\n\n    \n    \n\n\n    Registration\n        \n    \n    	\n		Court Fees + Administration Cost: $30.00	 \n\n	\n	\n    \n    \n\n\n    Total\n     \n    \n    \n    \n\n	\n				\n				\n					If you are human\, leave this field blank.				\n				\n			\n		\n\nSubmit
URL:https://pbtenniscircuit.com/event/june-22/
LOCATION:Palm Beach Polo & Country Club\, 11198 Polo Club Rd\,\, Wellington\, FL\, 33414\, United States
CATEGORIES:12U Green Dot,Orange Ball,Yellow Ball USTA Level 6
END:VEVENT
END:VCALENDAR